BEGIN:VCALENDAR
VERSION:2.0
PRODID:-//ChamberMaster//Event Calendar 2.0//EN
METHOD:PUBLISH
X-PUBLISHED-TTL:P1H
REFRESH-INTERVAL:P1H
CALSCALE:GREGORIAN
BEGIN:VTIMEZONE
TZID:America/Chicago
BEGIN:DAYLIGHT
RRULE:FREQ=YEARLY;BYMONTH=3;BYDAY=2SU
DTSTART:20070101T000000
TZOFFSETFROM:-0600
TZOFFSETTO:-0500
TZNAME:Central Daylight Time
END:DAYLIGHT
BEGIN:STANDARD
RRULE:FREQ=YEARLY;BYMONTH=11;BYDAY=1SU
DTSTART:20070101T000000
TZOFFSETFROM:-0500
TZOFFSETTO:-0600
TZNAME:Central Standard Time
END:STANDARD
END:VTIMEZONE
BEGIN:VEVENT
DTSTART;TZID=America/Chicago:20260604T173000
DTEND;TZID=America/Chicago:20260604T190000
X-MICROSOFT-CDO-ALLDAYEVENT:FALSE
SUMMARY:Opelika Young Professionals: Dog Walking at CARE Humane Society
DESCRIPTION:OYP is partnering with CARE Humane Society for our first dog walking event! Join us as we spend an afternoon learning best practices\, spending time outdoors\, and meeting new furry friends. Registration is REQUIRED to ensure we provide the correct number of attendees to CARE. We ask that you arrive promptly at 5:30 or a little earlier so the training portion can start on time.
X-ALT-DESC;FMTTYPE=text/html:<!DOCTYPE html><html><head><title></title></head><body aria-disabled="false"><p>OYP is partnering with CARE Humane Society for our first dog walking event! Join us as we spend an afternoon learning best practices\, spending time outdoors\, and meeting new furry friends. Registration is REQUIRED to ensure we provide the correct number of attendees to CARE.&nbsp\;</p><p>We ask that you arrive promptly at 5:30 or a little earlier so the training portion can start on time.</p></body></html>
LOCATION:1140 Ware Drive Auburn AL 36832
UID:e.3673.1447651
SEQUENCE:3
DTSTAMP:20260424T033149Z
URL:https://business.opelikachamber.com/community-calendar/Details/opelika-young-professionals-dog-walking-at-care-humane-society-1714591?sourceTypeId=Hub
END:VEVENT
END:VCALENDAR
